BEGIN:VCALENDAR
VERSION:2.0
PRODID:-//UMANA - ECPv6.15.16.1//NONSGML v1.0//EN
CALSCALE:GREGORIAN
METHOD:PUBLISH
X-ORIGINAL-URL:https://umana.org
X-WR-CALDESC:Events for UMANA
REFRESH-INTERVAL;VALUE=DURATION:PT1H
X-Robots-Tag:noindex
X-PUBLISHED-TTL:PT1H
BEGIN:VTIMEZONE
TZID:UTC
BEGIN:STANDARD
TZOFFSETFROM:+0000
TZOFFSETTO:+0000
TZNAME:UTC
DTSTART:20220101T000000
END:STANDARD
END:VTIMEZONE
BEGIN:VEVENT
DTSTART;TZID=UTC:20250425T083000
DTEND;TZID=UTC:20250426T230000
DTSTAMP:20260423T130809
CREATED:20241119T001717Z
LAST-MODIFIED:20250506T222726Z
UID:3944-1745569800-1745708400@umana.org
SUMMARY:UMANA 75th Anniversary Gala and XLVII Scientific Conference
DESCRIPTION:The UMANA 75th Anniversary Gala and XLVII Scientific Conference took place in New York City at the Ukrainian Institute of America. \nFriday:  Scientific Conference  “Micro-Invaders; Problem Creators” was well attended. The topic were current and stimulated much discussion. \n \nSaturday: 75th Gala Celebration- \nThe event featured UMANA”S 75 years of history and service and was a chance for new and old friends to enjoy a momentous occasion. \n \n 
URL:https://umana.org/event/umana-75th-anniversary-gala-and-xlvii-scientific-conference/
LOCATION:Ukrainian Institute of America\, 2 East 79th Street\, New York\, NY\, 10075\, United States
CATEGORIES:75th Anniversary Gala,Conferences,In Person,Lectures
ATTACH;FMTTYPE=image/jpeg:https://umana.org/wp-content/uploads/2024/11/ad34a.jpg
ORGANIZER;CN="UMANA":MAILTO:umana123@peoplepc.com
END:VEVENT
BEGIN:VEVENT
DTSTART;TZID=UTC:20230614T180000
DTEND;TZID=UTC:20230618T080000
DTSTAMP:20260423T130809
CREATED:20230314T054932Z
LAST-MODIFIED:20241118T143008Z
UID:2307-1686765600-1687075200@umana.org
SUMMARY:UMANA Scientific Conference and Assembly of Delegates
DESCRIPTION:The UMANA Scientific Conference and Assembly of Delegates will take place in Nashville\, TN. \nIMPORTANT: Registration closes June 1st 2023
URL:https://umana.org/event/umana-scientific-conference-and-assembly-of-delegates/
LOCATION:Ukrainian Institute of America\, 2 East 79th Street\, New York\, NY\, 10075\, United States
CATEGORIES:Conferences,In Person,Lectures
ATTACH;FMTTYPE=image/png:https://umana.org/wp-content/uploads/2023/02/Nashville-1.png
ORGANIZER;CN="UMANA":MAILTO:umana123@peoplepc.com
END:VEVENT
END:VCALENDAR